BEGIN:VCALENDAR
VERSION:2.0
PRODID:-//AeroAixpérimental - ECPv6.15.20//NONSGML v1.0//EN
CALSCALE:GREGORIAN
METHOD:PUBLISH
X-ORIGINAL-URL:https://www.aeroaixperimental.org
X-WR-CALDESC:Évènements pour AeroAixpérimental
REFRESH-INTERVAL;VALUE=DURATION:PT1H
X-Robots-Tag:noindex
X-PUBLISHED-TTL:PT1H
BEGIN:VTIMEZONE
TZID:Europe/Paris
BEGIN:DAYLIGHT
TZOFFSETFROM:+0100
TZOFFSETTO:+0200
TZNAME:CEST
DTSTART:20250330T010000
END:DAYLIGHT
BEGIN:STANDARD
TZOFFSETFROM:+0200
TZOFFSETTO:+0100
TZNAME:CET
DTSTART:20251026T010000
END:STANDARD
BEGIN:DAYLIGHT
TZOFFSETFROM:+0100
TZOFFSETTO:+0200
TZNAME:CEST
DTSTART:20260329T010000
END:DAYLIGHT
BEGIN:STANDARD
TZOFFSETFROM:+0200
TZOFFSETTO:+0100
TZNAME:CET
DTSTART:20261025T010000
END:STANDARD
BEGIN:DAYLIGHT
TZOFFSETFROM:+0100
TZOFFSETTO:+0200
TZNAME:CEST
DTSTART:20270328T010000
END:DAYLIGHT
BEGIN:STANDARD
TZOFFSETFROM:+0200
TZOFFSETTO:+0100
TZNAME:CET
DTSTART:20271031T010000
END:STANDARD
END:VTIMEZONE
BEGIN:VEVENT
DTSTART;TZID=Europe/Paris:20260425T100000
DTEND;TZID=Europe/Paris:20260425T180000
DTSTAMP:20260421T175934
CREATED:20260420T205223Z
LAST-MODIFIED:20260420T205223Z
UID:1064-1777111200-1777140000@www.aeroaixperimental.org
SUMMARY:FLYIN Saint YAN 2026
DESCRIPTION:Des avions prestigieux seront réunis : des mono ou des biplans rares (DASSAULT 312\, ZEPHYR \, Cap 232\, l’Armée de l’Air...) des patrouilles\,  etc…. mais aussi des aéronefs rarissimes que vous ne verrez que là … le NANCHANG\, l’UTVA\, le Piper Cub\, le Blériot XI\, planeurs BREGUET et autres planeurs historiques. \nDepuis 25 années\, ce rassemblement de 180 à 260 aéronefs selon la météo\, est devenu le rendez-vous préféré des fanas\, ceux qui aiment l’aéronautique\, le patrimoine culturel Français : l’aviation est née en France. \nC’est pour tous ceux qui aiment les pique-niques sous l’aile\, ceux qui aiment rencontrer d’autres passionnés\, des amis et des futurs amis. \nPour cette 25e édition\, des surprises seront nombreuses et les rencontres inattendues : Avions rarissimes\, ULM\, avion d’aéroclub\, voltige …. Blériot XI et son campement d’époque 1910\, SIMULATEUR …  \nLes grands noms de l’aéronautique seront là : Jacques DELEMONTEZ (Jean DELEMONTEZ\, L’Infatigable\, père des JODEL)\, Nottegheim et les Stampe de Saint YAN (L’évangile selon Saint YAN) \nVOUS POURREZ VISITER LES AVIONS sur le tarmak samedi matin\, avec un guide et rencontrer les pilotes \nDes livres anciens liés à l’aviation\, des vêtements aéro\, des équipements\, …  mais aussi une Broc Aéro des familles\, (apportez vos vieilleries à vendre ou échanger à condition qu’elles soient liées à l’aviation)\, et des lieux pour boire et manger.  \nDécouvrez un simulateur de vol en planeur\, les aéroclubs basés pour découvrir et pourquoi pas\, prendre en main le manche\, bientôt !  \nDes moments de grande convivialité \nInscription gratuite mais nécessaire (onglet inscription) modifiable et réversible à tout moment.
URL:https://www.aeroaixperimental.org/event/flyin-saint-yan-2026/
LOCATION:FLY IN Saint YAN & Meeting aérien\, aerodrome de saint yan\, SAINT-YAN\, 71600\, France
CATEGORIES:flyin,meeting
ATTACH;FMTTYPE=image/png:https://www.aeroaixperimental.org/wp-content/uploads/2026/04/image.png
ORGANIZER;CN="FLYIN LFBK":MAILTO:beatrice@nutrimarketing.fr
END:VEVENT
END:VCALENDAR