BEGIN:VCALENDAR
VERSION:2.0
PRODID:-//AeroAixpérimental - ECPv6.15.20//NONSGML v1.0//EN
CALSCALE:GREGORIAN
METHOD:PUBLISH
X-ORIGINAL-URL:https://www.aeroaixperimental.org
X-WR-CALDESC:Évènements pour AeroAixpérimental
REFRESH-INTERVAL;VALUE=DURATION:PT1H
X-Robots-Tag:noindex
X-PUBLISHED-TTL:PT1H
BEGIN:VTIMEZONE
TZID:Europe/Paris
BEGIN:DAYLIGHT
TZOFFSETFROM:+0100
TZOFFSETTO:+0200
TZNAME:CEST
DTSTART:20250330T010000
END:DAYLIGHT
BEGIN:STANDARD
TZOFFSETFROM:+0200
TZOFFSETTO:+0100
TZNAME:CET
DTSTART:20251026T010000
END:STANDARD
BEGIN:DAYLIGHT
TZOFFSETFROM:+0100
TZOFFSETTO:+0200
TZNAME:CEST
DTSTART:20260329T010000
END:DAYLIGHT
BEGIN:STANDARD
TZOFFSETFROM:+0200
TZOFFSETTO:+0100
TZNAME:CET
DTSTART:20261025T010000
END:STANDARD
BEGIN:DAYLIGHT
TZOFFSETFROM:+0100
TZOFFSETTO:+0200
TZNAME:CEST
DTSTART:20270328T010000
END:DAYLIGHT
BEGIN:STANDARD
TZOFFSETFROM:+0200
TZOFFSETTO:+0100
TZNAME:CET
DTSTART:20271031T010000
END:STANDARD
END:VTIMEZONE
BEGIN:VEVENT
DTSTART;TZID=Europe/Paris:20260523T090000
DTEND;TZID=Europe/Paris:20260523T150000
DTSTAMP:20260422T000032
CREATED:20260421T172322Z
LAST-MODIFIED:20260421T172322Z
UID:1093-1779526800-1779548400@www.aeroaixperimental.org
SUMMARY:2nd Rassemblement de Proximité de l'ACAARM - Montpellier-Candillargues (LFNG)
DESCRIPTION:Ce 2nd rassemblement de Proximité des Constructeurs Amateurs d’Avions de Camargue est organisé en toute simplicité par l’ACAARM  \nRestauration sur place. \n  \nBonne humeur et convivialité garantie \nCafé-croissants et apéritif offerts aux équipages  \n  \nMerci confirmer présence avant le 20 Mai 2026\nÉvitez tout survol du village et respectez consignes carte VAC
URL:https://www.aeroaixperimental.org/event/2nd-rassemblement-de-proximite-de-lacaarm-montpellier-candillargues-lfng/
LOCATION:Aerodrome de Caillgue LFNG\, aerodrome\, Candillargues\, 34130\, France
CATEGORIES:flyin
ORGANIZER;CN="Association Constructeurs Amateurs d'Avions de Camargue":MAILTO:acaarm.rsa@gmail.com
END:VEVENT
END:VCALENDAR