BEGIN:VCALENDAR
VERSION:2.0
PRODID:-//AeroAixpérimental - ECPv6.15.20//NONSGML v1.0//EN
CALSCALE:GREGORIAN
METHOD:PUBLISH
X-ORIGINAL-URL:https://www.aeroaixperimental.org
X-WR-CALDESC:Évènements pour AeroAixpérimental
REFRESH-INTERVAL;VALUE=DURATION:PT1H
X-Robots-Tag:noindex
X-PUBLISHED-TTL:PT1H
BEGIN:VTIMEZONE
TZID:Europe/Paris
BEGIN:DAYLIGHT
TZOFFSETFROM:+0100
TZOFFSETTO:+0200
TZNAME:CEST
DTSTART:20250330T010000
END:DAYLIGHT
BEGIN:STANDARD
TZOFFSETFROM:+0200
TZOFFSETTO:+0100
TZNAME:CET
DTSTART:20251026T010000
END:STANDARD
BEGIN:DAYLIGHT
TZOFFSETFROM:+0100
TZOFFSETTO:+0200
TZNAME:CEST
DTSTART:20260329T010000
END:DAYLIGHT
BEGIN:STANDARD
TZOFFSETFROM:+0200
TZOFFSETTO:+0100
TZNAME:CET
DTSTART:20261025T010000
END:STANDARD
BEGIN:DAYLIGHT
TZOFFSETFROM:+0100
TZOFFSETTO:+0200
TZNAME:CEST
DTSTART:20270328T010000
END:DAYLIGHT
BEGIN:STANDARD
TZOFFSETFROM:+0200
TZOFFSETTO:+0100
TZNAME:CET
DTSTART:20271031T010000
END:STANDARD
END:VTIMEZONE
BEGIN:VEVENT
DTSTART;TZID=Europe/Paris:20260522T090000
DTEND;TZID=Europe/Paris:20260523T180000
DTSTAMP:20260421T234633
CREATED:20260421T170526Z
LAST-MODIFIED:20260421T170526Z
UID:1083-1779440400-1779559200@www.aeroaixperimental.org
SUMMARY:Rassemblement annuel du Piper Club de France
DESCRIPTION:Le rassemblement Annuel & l’Assemblée Générale du Piper Club France se tiendront à l’aérodrome de Villefranche-Tarare (LFHV).
URL:https://www.aeroaixperimental.org/event/rassemblement-annuel-du-piper-club-de-france/
LOCATION:Villefranche-Tarare (LFHV)\, aerodrome\, Villefranche-Tarare\, France
END:VEVENT
END:VCALENDAR